BEGIN:VCALENDAR
VERSION:2.0
PRODID:-//wp-events-plugin.com//7.2.3.1//EN
TZID:America/New_York
X-WR-TIMEZONE:America/New_York
BEGIN:VEVENT
UID:305@quincyinst.org
DTSTART;TZID=America/New_York:20250922T110000
DTEND;TZID=America/New_York:20250922T120000
DTSTAMP:20250923T173905Z
URL:https://quincyinst.org/events/americans-eventually-rejected-the-gwot-w
 ill-israelis-reject-their-war-on-gaza/
SUMMARY:Americans Eventually Rejected the GWOT. Will Israelis Reject Their 
 War on Gaza?
DESCRIPTION:Lessons from 9/11 for the future of Israel.
ATTACH;FMTTYPE=image/jpeg:https://quincyinst-2.s3.amazonaws.com/wp-content
 /uploads/2025/09/05165530/Screenshot-2025-09-05-at-4.54.30-PM.png
CATEGORIES:Webinar
LOCATION:https://quincyinst.s3.amazonaws.com/wp-content/uploads/2025/09/231
 33818/Americans-Eventually-Rejected-the-GWOT.-Will-Israelis-Reject-Their-W
 ar-on-Gaza_.docx.pdf
END:VEVENT
BEGIN:VTIMEZONE
TZID:America/New_York
X-LIC-LOCATION:America/New_York
BEGIN:DAYLIGHT
DTSTART:20250309T030000
TZOFFSETFROM:-0500
TZOFFSETTO:-0400
TZNAME:EDT
END:DAYLIGHT
END:VTIMEZONE
END:VCALENDAR