BEGIN:VCALENDAR
VERSION:2.0
PRODID:-//wp-events-plugin.com//7.2.3.1//EN
TZID:America/New_York
X-WR-TIMEZONE:America/New_York
BEGIN:VEVENT
UID:200@quincyinst.org
DTSTART;TZID=America/New_York:20240423T120000
DTEND;TZID=America/New_York:20240423T130000
DTSTAMP:20240513T233916Z
URL:https://quincyinst.org/events/book-talk-collisions-the-origins-of-the-
 war-in-ukraine-and-the-new-global-instability/
SUMMARY:Book Talk – Collisions: The Origins of the War in Ukraine and the
  New Global Instability
DESCRIPTION:Join us for a conversation of Michael Kimmage's new book\, "Col
 lisions: The Origins of the War in Ukraine and the New Global Instability"
ATTACH;FMTTYPE=image/jpeg:https://quincyinst-2.s3.amazonaws.com/wp-content
 /uploads/2024/04/15121034/2024-03-15T142510Z_496264017_RC2AM6AE8XBR_RTRMAD
 P_3_UKRAINE-CRISIS-EAST-scaled.webp
CATEGORIES:Book Talk
LOCATION:https://quincyinst.s3.amazonaws.com/wp-content/uploads/2024/04/231
 61034/Book-Talk-–-Collisions_-The-Origins-of-the-War-in-Ukraine-and-the-
 New-Global-Instability.docx.pdf
END:VEVENT
BEGIN:VTIMEZONE
TZID:America/New_York
X-LIC-LOCATION:America/New_York
BEGIN:DAYLIGHT
DTSTART:20240310T030000
TZOFFSETFROM:-0500
TZOFFSETTO:-0400
TZNAME:EDT
END:DAYLIGHT
END:VTIMEZONE
END:VCALENDAR