BEGIN:VCALENDAR
VERSION:2.0
PRODID:-//wp-events-plugin.com//7.2.3.1//EN
TZID:America/New_York
X-WR-TIMEZONE:America/New_York
BEGIN:VEVENT
UID:193@quincyinst.org
DTSTART;TZID=America/New_York:20240305T120000
DTEND;TZID=America/New_York:20240305T130000
DTSTAMP:20240513T233918Z
URL:https://quincyinst.org/events/book-talk-the-tragic-mind-2/
SUMMARY:Book Talk: The Loom of Time & The Tragic Mind
DESCRIPTION:Join us for a discussion of Robert D. Kaplan's recently publish
 ed books\, "The Loom of Time" & "The Tragic Mind"
ATTACH;FMTTYPE=image/jpeg:https://quincyinst-2.s3.amazonaws.com/wp-content
 /uploads/2024/02/01204812/shutterstock_22688104-jpg.webp
CATEGORIES:Book Talk
LOCATION:https://quincyinst.org/wp-content/uploads/2024/03/Book-Talk_-The-L
 oom-of-Time-The-Tragic-Mind.docx.pdf
END:VEVENT
BEGIN:VTIMEZONE
TZID:America/New_York
X-LIC-LOCATION:America/New_York
BEGIN:STANDARD
DTSTART:20231105T010000
TZOFFSETFROM:-0400
TZOFFSETTO:-0500
TZNAME:EST
END:STANDARD
END:VTIMEZONE
END:VCALENDAR