BEGIN:VCALENDAR
VERSION:2.0
PRODID:-//wp-events-plugin.com//7.2.3.1//EN
TZID:America/New_York
X-WR-TIMEZONE:America/New_York
BEGIN:VEVENT
UID:199@quincyinst.org
DTSTART;TZID=America/New_York:20240416T130000
DTEND;TZID=America/New_York:20240416T140000
DTSTAMP:20240513T234057Z
URL:https://quincyinst.org/events/china-as-a-hegemonic-challenge/
SUMMARY:China as a Hegemonic Challenge?
DESCRIPTION:Join us as we discuss and debate the China challenge. 
ATTACH;FMTTYPE=image/jpeg:https://quincyinst-2.s3.amazonaws.com/wp-content
 /uploads/2024/01/01210051/2023-09-23T000000Z_314650438_MT1EYEIM259218_RTRM
 ADP_3_ASIAN-GAMES-OPENING-CEREMONY-scaled-1-jpg.webp
CATEGORIES:Webinar
LOCATION:https://quincyinst.s3.amazonaws.com/wp-content/uploads/2024/04/171
 45612/China-as-a-Hegemonic-Challenge_.docx-1.pdf
END:VEVENT
BEGIN:VTIMEZONE
TZID:America/New_York
X-LIC-LOCATION:America/New_York
BEGIN:DAYLIGHT
DTSTART:20240310T030000
TZOFFSETFROM:-0500
TZOFFSETTO:-0400
TZNAME:EDT
END:DAYLIGHT
END:VTIMEZONE
END:VCALENDAR