BEGIN:VCALENDAR
VERSION:2.0
PRODID:-//wp-events-plugin.com//7.2.3.1//EN
TZID:America/New_York
X-WR-TIMEZONE:America/New_York
BEGIN:VEVENT
UID:229@quincyinst.org
DTSTART;TZID=America/New_York:20240820T120000
DTEND;TZID=America/New_York:20240820T130000
DTSTAMP:20240820T183829Z
URL:https://quincyinst.org/events/heading-toward-war-reevaluating-taiwans-
 status-quo/
SUMMARY:Heading Toward War? Reevaluating Taiwan’s Status Quo
DESCRIPTION:Join us for a discussion of the changing dynamics of the Taiwan
  status quo.
ATTACH;FMTTYPE=image/jpeg:https://quincyinst-2.s3.amazonaws.com/wp-content
 /uploads/2024/08/12154036/Screenshot-2024-08-12-at-3.40.12%E2%80%AFPM.png
CATEGORIES:Webinar
LOCATION:https://quincyinst.s3.amazonaws.com/wp-content/uploads/2024/08/201
 43737/Heading-Toward-War_-Reevaluating-Taiwans-Status-Quo.docx.pdf
END:VEVENT
BEGIN:VTIMEZONE
TZID:America/New_York
X-LIC-LOCATION:America/New_York
BEGIN:DAYLIGHT
DTSTART:20240310T030000
TZOFFSETFROM:-0500
TZOFFSETTO:-0400
TZNAME:EDT
END:DAYLIGHT
END:VTIMEZONE
END:VCALENDAR