BEGIN:VCALENDAR
VERSION:2.0
PRODID:-//wp-events-plugin.com//7.2.3.1//EN
TZID:America/New_York
X-WR-TIMEZONE:America/New_York
BEGIN:VEVENT
UID:234@quincyinst.org
DTSTART;TZID=America/New_York:20240917T100000
DTEND;TZID=America/New_York:20240917T110000
DTSTAMP:20240924T232004Z
URL:https://quincyinst.org/events/in-conversation-with-south-africas-new-m
 inister-for-international-relations-and-cooperation-ronald-lamola/
SUMMARY:In Conversation with South Africa’s New Minister for Internationa
 l Relations and Cooperation\, Ronald Lamola
DESCRIPTION:The Quincy Institute was honored to host H.E. Ronald Lamola for
  his first public event in Washington\, DC on South Africa's foreign polic
 y.
ATTACH;FMTTYPE=image/jpeg:https://quincyinst-2.s3.amazonaws.com/wp-content
 /uploads/2024/09/24191648/Screenshot-2024-09-24-at-7.16.23%E2%80%AFPM.png
CATEGORIES:In-Person Conversation
LOCATION:https://quincyinst.s3.amazonaws.com/wp-content/uploads/2024/09/181
 10559/In-Conversation-with-South-Africas-New-Minister-for-International-Re
 lations-and-Cooperation-Ronald-Lamola.docx-2.pdf
END:VEVENT
BEGIN:VTIMEZONE
TZID:America/New_York
X-LIC-LOCATION:America/New_York
BEGIN:DAYLIGHT
DTSTART:20240310T030000
TZOFFSETFROM:-0500
TZOFFSETTO:-0400
TZNAME:EDT
END:DAYLIGHT
END:VTIMEZONE
END:VCALENDAR