BEGIN:VCALENDAR
VERSION:2.0
PRODID:-//wp-events-plugin.com//7.2.3.1//EN
TZID:America/New_York
X-WR-TIMEZONE:America/New_York
BEGIN:VEVENT
UID:135@quincyinst.org
DTSTART;TZID=America/New_York:20230309T160000
DTEND;TZID=America/New_York:20230309T171000
DTSTAMP:20240513T233928Z
URL:https://quincyinst.org/events/okinawa-governor-tamaki-on-the-islands-c
 hanging-security-situation/
SUMMARY:Okinawa Governor Tamaki on the Islands' Changing Security Situation
DESCRIPTION:The East Asian region surrounding Okinawa is changing at a dizz
 ying pace\, as rising tensions in the Taiwan Strait dramatically alter the
  security situation. The revision of Japan’s Three Security Documents in
  December\, the proposed increase in its defense budget\, and the strength
 ening of the U.S.-Japanese alliance announced at the meeting between Presi
 dent Biden and Prime Minister Kishida in January all signify the intensifi
 cation of deterrence efforts in the region\, and local residents are incre
 asingly anxious about the increased military presence and the increased fr
 equency of military exercises.   On the other hand\, plans are underway f
 or the re-alignment of Marine Corps stationed in Okinawa\, and the transfe
 rring of some units based in the prefecture to Guam. Against this backdrop
 \, many voices in Okinawa are calling for persistent diplomatic efforts am
 ong East Asian states that rely as much on dialogue and reassurance as on 
 deterrence.   To discuss these issues and more\, the Quincy Institute for
  Responsible Statecraft is co-sponsoring an online and in-person event wit
 h the Okinawa Prefectural Government and George Washington University. The
  discussion will feature Okinawa Governor Yasuhiro “Denny” Tamaki\, on
  his first visit to the U.S. in three years\; and Michael Swaine\, Senior 
 Research Fellow at the Quincy Institute. Mike Mochizuki\, Associate Profes
 sor of U.S.-Japan relations at George Washington University and non-reside
 nt fellow at the Quincy Institute\, will moderate.  
ATTACH;FMTTYPE=image/jpeg:https://quincyinst-2.s3.amazonaws.com/wp-content
 /uploads/2024/01/17204959/5068672-scaled-3-jpg.webp
LOCATION:The National Churchill Leadership Center\, Gelman Library (Or Onli
 ne)\, 2130 H Street NW\, Washington\, DC 20052\, United States
X-APPLE-STRUCTURED-LOCATION;VALUE=URI;X-ADDRESS=2130 H Street NW\, Washingt
 on\, DC 20052\, United States;X-APPLE-RADIUS=100;X-TITLE=The National Chur
 chill Leadership Center\, Gelman Library (Or Online):geo:0,0
END:VEVENT
BEGIN:VTIMEZONE
TZID:America/New_York
X-LIC-LOCATION:America/New_York
BEGIN:STANDARD
DTSTART:20221106T010000
TZOFFSETFROM:-0400
TZOFFSETTO:-0500
TZNAME:EST
END:STANDARD
END:VTIMEZONE
END:VCALENDAR