BEGIN:VCALENDAR
VERSION:2.0
PRODID:-//wp-events-plugin.com//7.2.3.1//EN
TZID:America/New_York
X-WR-TIMEZONE:America/New_York
BEGIN:VEVENT
UID:7@quincyinst.org
DTSTART;TZID=America/New_York:20191107T090000
DTEND;TZID=America/New_York:20191107T150000
DTSTAMP:20240513T234056Z
URL:https://quincyinst.org/events/regime-change-how-to-replace-the-beltway
 -blob-with-the-foreign-policy-americans-want/
SUMMARY:“Regime Change: How to Replace the Beltway Blob with the Foreign 
 Policy Americans Want”
DESCRIPTION:The American Convervative's annual conference featured the Quin
 cy Institute's Andrew Bacevich and Stephen Wertheim
ATTACH;FMTTYPE=image/jpeg:https://quincyinst-2.s3.amazonaws.com/wp-content
 /uploads/2024/01/01211547/FP-conferrence-favorite-1-2-jpeg.webp
LOCATION:Hart Senate Office Building\, 120 Constitution Ave NE\, Washington
 \, DC 20002\, United States
X-APPLE-STRUCTURED-LOCATION;VALUE=URI;X-ADDRESS=120 Constitution Ave NE\, W
 ashington\, DC 20002\, United States;X-APPLE-RADIUS=100;X-TITLE=Hart Senat
 e Office Building:geo:0,0
END:VEVENT
BEGIN:VTIMEZONE
TZID:America/New_York
X-LIC-LOCATION:America/New_York
BEGIN:STANDARD
DTSTART:20191103T010000
TZOFFSETFROM:-0400
TZOFFSETTO:-0500
TZNAME:EST
END:STANDARD
END:VTIMEZONE
END:VCALENDAR