BEGIN:VCALENDAR
VERSION:2.0
PRODID:-//wp-events-plugin.com//7.2.3.1//EN
TZID:America/New_York
X-WR-TIMEZONE:America/New_York
BEGIN:VEVENT
UID:9@quincyinst.org
DTSTART;TZID=America/New_York:20200123T120000
DTEND;TZID=America/New_York:20200123T140000
DTSTAMP:20240513T234055Z
URL:https://quincyinst.org/events/the-u-s-iran-dangerous-escalation-or-cal
 culated-brinkmanship/
SUMMARY:“The U.S. & Iran: Dangerous Escalation or Calculated Brinkmanship
 ?”
DESCRIPTION:GIF hosted panel discussion "The U.S. & Iran: Dangerous Escalat
 ion or Calculated Brinkmanship"
ATTACH;FMTTYPE=image/jpeg:https://quincyinst-2.s3.amazonaws.com/wp-content
 /uploads/2024/01/01211529/shutterstock_1609234762-scaled-3-jpg.webp
LOCATION:GIF Headquarters\, 1275 K St NW\, Washington\, DC 20005\, United S
 tates
X-APPLE-STRUCTURED-LOCATION;VALUE=URI;X-ADDRESS=1275 K St NW\, Washington\,
  DC 20005\, United States;X-APPLE-RADIUS=100;X-TITLE=GIF Headquarters:geo:
 0,0
END:VEVENT
BEGIN:VTIMEZONE
TZID:America/New_York
X-LIC-LOCATION:America/New_York
BEGIN:STANDARD
DTSTART:20191103T010000
TZOFFSETFROM:-0400
TZOFFSETTO:-0500
TZNAME:EST
END:STANDARD
END:VTIMEZONE
END:VCALENDAR