BEGIN:VCALENDAR
VERSION:2.0
PRODID:-//wp-events-plugin.com//7.2.3.1//EN
TZID:America/New_York
X-WR-TIMEZONE:America/New_York
BEGIN:VEVENT
UID:236@quincyinst.org
DTSTART;TZID=America/New_York:20241008T120000
DTEND;TZID=America/New_York:20241008T130000
DTSTAMP:20241008T204916Z
URL:https://quincyinst.org/events/the-ukraine-war-and-the-eurasian-world-o
 rder/
SUMMARY:Book Talk - The Ukraine War and the Eurasian World Order
DESCRIPTION:Join us to discuss Dr. Glenn Diesen's new book "The Ukraine War
  and the Eurasian World Order"
ATTACH;FMTTYPE=image/jpeg:https://quincyinst-2.s3.amazonaws.com/wp-content
 /uploads/2024/09/24161512/Screenshot-2024-09-24-at-4.14.57%E2%80%AFPM.png
CATEGORIES:Book Talk
LOCATION:https://quincyinst.s3.amazonaws.com/wp-content/uploads/2024/09/081
 64608/Book-Talk-–-The-Ukraine-War-and-the-Eurasian-World-Order.docx.pdf
END:VEVENT
BEGIN:VTIMEZONE
TZID:America/New_York
X-LIC-LOCATION:America/New_York
BEGIN:DAYLIGHT
DTSTART:20240310T030000
TZOFFSETFROM:-0500
TZOFFSETTO:-0400
TZNAME:EDT
END:DAYLIGHT
END:VTIMEZONE
END:VCALENDAR